BEGIN:VCALENDAR
VERSION:2.0
PRODID:icalendar-ruby
CALSCALE:GREGORIAN
METHOD:PUBLISH
BEGIN:VTIMEZONE
TZID:Europe/Oslo
END:VTIMEZONE
BEGIN:VEVENT
DTSTAMP:20260420T221253Z
UID:8f61c232-c079-43d8-9bbd-3d7159fd1479
DTSTART;TZID=Europe/Oslo:20260428T200000
DURATION:PT120M
DESCRIPTION:test
LOCATION:boddis
ORGANIZER;CN=Studentersamfundet i Trondhjem:https://www.samfundet.no
SUMMARY:test
URL:https://www-beta.samfundet.no/arrangement/620-test
END:VEVENT
END:VCALENDAR

